BEGIN:VCALENDAR
VERSION:2.0
PRODID:-//Pyhäjärvi-instituutti - ECPv6.15.5//NONSGML v1.0//EN
CALSCALE:GREGORIAN
METHOD:PUBLISH
X-WR-CALNAME:Pyhäjärvi-instituutti
X-ORIGINAL-URL:https://pyhajarvi-instituutti.fi
X-WR-CALDESC:Tapahtumat Pyhäjärvi-instituutti
REFRESH-INTERVAL;VALUE=DURATION:PT1H
X-Robots-Tag:noindex
X-PUBLISHED-TTL:PT1H
BEGIN:VTIMEZONE
TZID:Europe/Helsinki
BEGIN:DAYLIGHT
TZOFFSETFROM:+0200
TZOFFSETTO:+0300
TZNAME:EEST
DTSTART:20250330T010000
END:DAYLIGHT
BEGIN:STANDARD
TZOFFSETFROM:+0300
TZOFFSETTO:+0200
TZNAME:EET
DTSTART:20251026T010000
END:STANDARD
END:VTIMEZONE
BEGIN:VEVENT
DTSTART;TZID=Europe/Helsinki:20250129T120000
DTEND;TZID=Europe/Helsinki:20250129T150000
DTSTAMP:20260426T004554
CREATED:20241219T091043Z
LAST-MODIFIED:20250124T122856Z
UID:25606-1738152000-1738162800@pyhajarvi-instituutti.fi
SUMMARY:Ratkaisuja elintarviketeollisuuden sivuvirtojen käsittelyyn ja kierrätykseen maan terveyden parantamiseksi
DESCRIPTION:Ratkaisuja elintarviketeollisuuden sivuvirtojen käsittelyyn ja kierrätykseen maan terveyden parantamiseksi nostetaan esille tammikuisessa Living Lab -tilaisuudessa 29.1.2025. Tilaisuus alkaa verkostoitumisella lounaan merkeissä klo 12 ja jatkuu klo 13-15 Ravintola Myllynkiven vihreässä salissa (Kivenhakkaajantie\, Säkylä) puheenvuorojen ja keskustelun merkeissä. Tilaisuus on jatkoa DeliSoil-hankkeen Living Lab -toiminnan tilaisuuksille. \nOhjelmassa: \nMitä on Living Lab -toiminta? Henna Ryömä\, Pyhäjärvi-instituutti \nKoetoiminnan tuloksia Säkylän alueen elintarviketeollisuuden sivuvirroilla\, Johanna Laakso ja Tapio Salo\, Luke \nKierrätyslannoitteiden haasteet ja mahdollisuudet\, Anne Relander\, Ruokavirasto ja Elli Auvinen Helsingin yliopisto/Ruokavirasto \nYaraSuna kierrätyslannoitteet\, Asko Kinnunen\, Yara \nKiertoravinteen soveltuvat tuotteet ja niiden hyödyt tiloille\, Jenni Ylikahri\, Kiertoravinne Oy \nKiertoaSuomesta.fi\, Nora Berglund\, Maa- ja Metsätaloustuottajain Keskusliitto MTK ry \nKeskustelua: Miten saada elintarviketeollisuuden sivuvirrat kiertämään? – maan terveyttä ja kasvukuntoa edistämässä \nTilaisuuden koonti\, Sauli Jaakkola\, Pyhäjärvi-instituutti \nIlmoittaudu mukaan tästä linkistä 24.1. mennessä: https://link.webropol.com/s/delisoil-29012025 \n 
URL:https://pyhajarvi-instituutti.fi/tapahtuma/ratkaisuja-elintarviketeollisuuden-sivuvirtojen-kasittelyyn-ja-kierratykseen-maan-terveyden-parantamiseksi/
ATTACH;FMTTYPE=image/jpeg:https://pyhajarvi-instituutti.fi/wp-content/uploads/2024/05/iStock-1360520451-scaled.jpg
END:VEVENT
END:VCALENDAR