BEGIN:VCALENDAR
VERSION:2.0
PRODID:-//Pyhäjärvi-instituutti - ECPv6.15.5//NONSGML v1.0//EN
CALSCALE:GREGORIAN
METHOD:PUBLISH
X-WR-CALNAME:Pyhäjärvi-instituutti
X-ORIGINAL-URL:https://pyhajarvi-instituutti.fi
X-WR-CALDESC:Tapahtumat Pyhäjärvi-instituutti
REFRESH-INTERVAL;VALUE=DURATION:PT1H
X-Robots-Tag:noindex
X-PUBLISHED-TTL:PT1H
BEGIN:VTIMEZONE
TZID:Europe/Helsinki
BEGIN:DAYLIGHT
TZOFFSETFROM:+0200
TZOFFSETTO:+0300
TZNAME:EEST
DTSTART:20260329T010000
END:DAYLIGHT
BEGIN:STANDARD
TZOFFSETFROM:+0300
TZOFFSETTO:+0200
TZNAME:EET
DTSTART:20261025T010000
END:STANDARD
END:VTIMEZONE
BEGIN:VEVENT
DTSTART;TZID=Europe/Helsinki:20260302T110000
DTEND;TZID=Europe/Helsinki:20260302T160000
DTSTAMP:20260423T010419
CREATED:20260204T084149Z
LAST-MODIFIED:20260224T105353Z
UID:26818-1772449200-1772467200@pyhajarvi-instituutti.fi
SUMMARY:Laidunnusosaamisella lisäarvoa emolehmätiloille -hankkeen kick off Huittisissa
DESCRIPTION:Tervetuloa Laidunnusosaamisella lisäarvoa emolehmätiloille -hankkeen kick off tilaisuuteen Huittisiin Länsi-Suomen opistolle (Aino Voipion tie 30\, 32700 Huittinen). Päivä alkaa yhteisellä lounaalla klo 11. Tilaisuus on maksuton ja avoin kaikille laidunnuksesta kiinnostuneille tuottajille. Tervetuloa mukaan! \nIlmoittautuminen: https://forms.office.com/Pages/ResponsePage.aspx?id=KXRjs8abhkm8mMAjPghYM-X8MYSXjXRPkKw3G7oiUq1UNlRIVUtET05HNkVDR1ZKRUxSWE1TOEUwQi4u \nPäivän ohjelma:\n11.00 Lounas\n12.00 Hankkeen esittely (Senja Vehkaoja / Pyhäjärvi-instituutti ja Päivi Anttila / HKFoods)\n12.30 Mitä kuuluu HK nautapuolelle? (Päivi Anttila / HKFoods)\n12.45 Laidunnuksen perusteet (Senja Vehkaoja / Pyhäjärvi-instituutti)\n14.15 Iltapäiväkahvit\n14.45 Onnistunut laidunnus Salmensuun tilalla (Mari Toivonen / Salmensuun tila)\n15.45 Kysely: Mitä toivot hankkeelta?\n16.00 Päivän päätös \nHanke on saanut EU:n maaseuturahoitusta. \nLisätietoja:\nSenja Vehkaoja / Pyhäjärvi-instituutti\nsenja.vehkaoja@pji.fi\n0449027376
URL:https://pyhajarvi-instituutti.fi/tapahtuma/laidunnusosaamisella-lisaarvoa-emolehmatiloille-hankkeen-kick-off-huittisissa/
ATTACH;FMTTYPE=image/png:https://pyhajarvi-instituutti.fi/wp-content/uploads/2026/02/Laitumella.png
END:VEVENT
BEGIN:VEVENT
DTSTART;TZID=Europe/Helsinki:20260302T130000
DTEND;TZID=Europe/Helsinki:20260302T173000
DTSTAMP:20260423T010419
CREATED:20260220T072823Z
LAST-MODIFIED:20260224T105401Z
UID:26884-1772456400-1772472600@pyhajarvi-instituutti.fi
SUMMARY:Broileritilojen liiketoiminta- ja johtamisosaaminen -hankkeen päätöstilaisuus
DESCRIPTION:Tervetuloa Broileritilojen liiketoiminta- ja johtamisosaaminen -hankkeen päätöstilaisuuteen 2.3.2026 Rauman Karin kampukselle\, Sali I (Aittakarinkatu 10\, 26100 Rauma). \nTilaisuus alkaa klo 13 kahvilla ja päättyy klo 17.30 illalliseen. Ilmoittautumiset viimeistään ma 23.2. tällä lomakkeella tai sähköpostitse (vilhelmiina.karvo@pji.fi). \n\n\nOhjelma: \n13.00 Kahvi \n13.30 Tilaisuuden avaus \n\nJuhlapuheenvuoro\, työministeri Matias Marttinen\nLihantuotanto ja -kulutus tulevaisuudessa\, Reijo Pirttijärvi\, asiakkuusjohtaja\, Kantar Agri\nLounais-Suomen elinvoimakeskus ja ruokaketjun merkitys alueella\, Timo Pukkila\, osastopäällikkö\, Lounais-Suomen elinvoimakeskus\nHKFoodsin siipikarjaliiketoiminnan tulevaisuuden näkymät\, Petri Toivola\, siipikarjaliiketoiminnan johtaja\, HKFoods\nTutkimus- ja kehitystyö elinkeinojen tukena\, Teija Kirkkala\, toiminnanjohtaja\, Pyhäjärvi-instituutti\nHanketyöntekijän kokemuksia\, Vilhelmiina Karvo\, asiantuntija\, Pyhäjärvi-instituutti\nPäätössanat\, Jarmo Seikola\, asiantuntija\, HKFoods\n\n17.30 Illallinen \nLisätietoja antaa: \nVilhelmiina Karvo\npuh. 044 779 5420\nvilhelmiina.karvo@pji.fi \n\nTilaisuus järjestetään osana Pyhäjärvi-instituutin Broileritilojen liiketoiminta- ja johtamisosaaminen -hanketta\, jota rahoitetaan Euroopan maaseuturahastosta Satakunnan ja Varsinais-Suomen ELY-keskusten kautta\, joiden tehtäviä hoitaa nykyisin Lounais-Suomen elinvoimakeskus. Yksityistä rahoitusta hanke on saanut HKFoods Finland Oy:ltä.
URL:https://pyhajarvi-instituutti.fi/tapahtuma/broileritilojen-liiketoiminta-ja-johtamisosaaminen-hankkeen-paatostilaisuus/
ATTACH;FMTTYPE=image/png:https://pyhajarvi-instituutti.fi/wp-content/uploads/2026/02/Otsikko.png
END:VEVENT
END:VCALENDAR