BEGIN:VCALENDAR
VERSION:2.0
PRODID:-//Pyhäjärvi-instituutti - ECPv6.15.5//NONSGML v1.0//EN
CALSCALE:GREGORIAN
METHOD:PUBLISH
X-ORIGINAL-URL:https://pyhajarvi-instituutti.fi
X-WR-CALDESC:Tapahtumat Pyhäjärvi-instituutti
REFRESH-INTERVAL;VALUE=DURATION:PT1H
X-Robots-Tag:noindex
X-PUBLISHED-TTL:PT1H
BEGIN:VTIMEZONE
TZID:Europe/Helsinki
BEGIN:DAYLIGHT
TZOFFSETFROM:+0200
TZOFFSETTO:+0300
TZNAME:EEST
DTSTART:20260329T010000
END:DAYLIGHT
BEGIN:STANDARD
TZOFFSETFROM:+0300
TZOFFSETTO:+0200
TZNAME:EET
DTSTART:20261025T010000
END:STANDARD
END:VTIMEZONE
BEGIN:VEVENT
DTSTART;TZID=Europe/Helsinki:20260319T093000
DTEND;TZID=Europe/Helsinki:20260319T130000
DTSTAMP:20260423T010535
CREATED:20260129T105207Z
LAST-MODIFIED:20260218T084124Z
UID:26786-1773912600-1773925200@pyhajarvi-instituutti.fi
SUMMARY:Ruokayrittäjän kevätbrunssi Sauvossa
DESCRIPTION:Varsinais-Suomessa ruoan parissa toimiva yrittäjä\, tämä tilaisuus on sinulle – ota itsellesi aikaa ja tule syömään ihana lähiruokabrunssi kanssamme! \n\n\nMilloin olet viimeksi istunut alas pohtimaan omaa suuntaasi ruokayrittäjänä samoja asioita läpikäyneiden kollegoiden kanssa? Pysähdy yhdeksi aamupäiväksi kanssamme! \nMe tarjoamme sinulle paikallisista raaka-aineista kootun brunssin tunnelmallisessa Rantolan Puodissa sekä antoisan puheenvuoron ruokayrittäjyyden ruusuista ja risuista kokemusasiantuntija Mirka Olinilta. Sinulta toivomme halua tulla paikalle herkuttelemaan ja ottamaan aikaa oman ruokayrittäjyytesi pohtimiseen. Rauhallisen ohjelman ansiosta ehdit halutessasi keskustella muiden yrittäjien sekä alan kehittäjien kanssa kaikessa rauhassa. \nAika: Aamupäivän tilaisuus\, klo 9:30-13:00.\nPaikka: Rantolan Puoti\, Karunantie 1205\, 21590 Sauvo \n\nOhjelma  \nRantolan Puodin Anne Ahlgren esittäytyy ja kertoo omasta yrittäjätaipaleestaan  \nRuoka-ammattilainen ja Suomen Artesaaniruoka ry:n toiminnanjohtaja Mirka Olin jakaa kokemuksiaan yrittäjyydestä ja sen kaikista puolista  \nLähiruokabrunssi  \nKeskustelua ja verkostoitumista  \n\nPaikkoja on rajoitettu määrä\, joten olethan nopea! Mukaan mahtuu 20 ensimmäistä ilmoittautunutta. Ilmoittaudu mukaan viimeistään 12.3.2026: https://link.webropolsurveys.com/EP/BBFCCE207A6DF538   \nTilaisuus on osallistujille ilmainen. \nLisätietoja: Laura Varjotie\, 044 045 6403\, laura.varjotie@pji.fi  \nTilaisuus järjestetään osana Tulevaisuuden ruokaketjut Varsinais-Suomessa\, Framtidens Matkedjor i Egentliga Finland (TuRVa) -hanketta\, jonka tavoitteena on lisätä varsinaissuomalaisten ruokasektoriyritysten uusiutumis- ja sopeutumiskykyä toimintaympäristön muutoksiin\, tukea kestävän ruokasektorin kehittymistä sekä varmistaa ruokasektorin yritysten kilpailukyvyn säilyminen myös tulevaisuudessa. Hanke on saanut EU:n maaseuturahoitusta.
URL:https://pyhajarvi-instituutti.fi/tapahtuma/ruokayrittajan-kevatbrunssi/
ATTACH;FMTTYPE=image/png:https://pyhajarvi-instituutti.fi/wp-content/uploads/2026/01/kevatbrunssi_turva.png
END:VEVENT
END:VCALENDAR