BEGIN:VCALENDAR
VERSION:2.0
PRODID:-//Pyhäjärvi-instituutti - ECPv6.15.5//NONSGML v1.0//EN
CALSCALE:GREGORIAN
METHOD:PUBLISH
X-ORIGINAL-URL:https://pyhajarvi-instituutti.fi
X-WR-CALDESC:Tapahtumat Pyhäjärvi-instituutti
REFRESH-INTERVAL;VALUE=DURATION:PT1H
X-Robots-Tag:noindex
X-PUBLISHED-TTL:PT1H
BEGIN:VTIMEZONE
TZID:Europe/Helsinki
BEGIN:DAYLIGHT
TZOFFSETFROM:+0200
TZOFFSETTO:+0300
TZNAME:EEST
DTSTART:20260329T010000
END:DAYLIGHT
BEGIN:STANDARD
TZOFFSETFROM:+0300
TZOFFSETTO:+0200
TZNAME:EET
DTSTART:20261025T010000
END:STANDARD
END:VTIMEZONE
BEGIN:VEVENT
DTSTART;TZID=Europe/Helsinki:20260325T084500
DTEND;TZID=Europe/Helsinki:20260325T154500
DTSTAMP:20260423T010534
CREATED:20260311T064436Z
LAST-MODIFIED:20260324T094353Z
UID:26779-1774428300-1774453500@pyhajarvi-instituutti.fi
SUMMARY:Öljykasviseminaari 2026
DESCRIPTION:Tänä vuonna Öljykasviseminaarissa 25.3.2026 katsotaan tulevaisuuteen: millaisin uusin keinoin rypsin ja rapsin viljelystä tehdään entistä kannattavampaa ja varmempaa? Seminaarin puheenvuorot tarjoavat monipuolisen katsauksen niihin työkaluihin\, joilla menestyvää öljykasvituotantoa voidaan rakentaa. \n\n\n\nVuosi 2025 oli syysöljykasveille menestyksekäs. Tämän vuoden Öljykasviseminaari laitetaan käyntiin viljelijän puheenvuorolla\, jossa pohditaan\, miten onnistumisia saadaan useammin sekä syys- että kevätöljykasveilla. Seminaarin aikana kuulemme vastauksia tähän pohdintaan monelta näkökantilta! \nYhtenä ratkaisuna esitellään erilaisten teknologioiden mahdollisuuksia eli miten esimerkiksi drooneja ja älykkäitä kameroita voidaan hyödyntää rypsin ja rapsin viljelyssä. Ja siinä missä tuholaiset ovat öljykasvituotannon suurimpia haasteita\, ratkaisut niiden torjumiseksi voivat olla yllättävän yksinkertaisia: käymme läpi\, millaisia uusia ovia hyönteisten käyttäytymisen parempi tunteminen avaa tuholaistorjuntaan. Tutustumme myös siihen\, millainen rooli geenieditoinnilla on suomalaisen öljykasvituotannon tulevaisuudessa. Päivän pääpuhuja ottaa kantaa syysöljykasvien mahdollisuuksiin Suomen kasvuoloissa ja kertoo\, onko kyse lopulta tuurista vai taidosta. \nSeminaarin päätteeksi zoomataan loitommas ja tarkastellaan öljykasvien merkitystä suomalaisen maataloustuotannon kokonaiskuvassa – mihin rypsiä ja rapsia tarvitaan? \n \nIlmoittautuminen\nÖljykasviseminaari järjestetään 25. maaliskuuta 2026 Seinäjoella\, Taide- ja kulttuurikeskus Kalevan Navetassa sekä verkossa suorana lähetyksenä (Microsoft Teams). Tilaisuudesta ei tehdä tallennetta. \nPaikan päälle ilmoittautuminen on päättynyt. \nIlmoittautuminen seuraamaan verkkolähetystä: Öljykasviseminaari 2026 verkkolähetys \nOhjelma\n8.45 Aamukahvit ja sämpylä \n9.15 Tilaisuuden avaus\, Sauli Jaakkola\, Pyhäjärvi-instituutti \n9.25 Ajankohtaista rypsin ja rapsin viljelyn kehittämisessä\, Johanna Pihala\, Pyhäjärvi-instituutti \n9.35 Teollisuuden terveiset ja markkinakatsaus\, Mikko Kaase\, Apetit Kasviöljy \n9.45 Mitä tarvitaan\, jotta öljykasvien viljelyssä onnistutaan useammin? Risto Tupi\, viljelijä \n10.15 Tauko \n10.25 Droonit kasvinsuojeluaineiden ja lannoitteiden levityksessä\, Mikko Hakojärvi\, Mtech Digital Solutions Oy \n10.55 Kehittyneet kamerat ja tekoäly kasvintuhoojien tunnistamisessa\, Jere Kaivosoja\, Luonnonvarakeskus \n11.25 Lounas \n12.45 Geenitekniikan mahdollisuudet ja rajoitukset rypsinjalostuksessa\, Outi Manninen\, Boreal Kasvinjalostus Oy \n13.15 Winter rapeseed in Finland – Reliable future or just marketing? Rene Brand\, international rapeseed expert\, Germany \n14.00 Keskustelua ja tauko \n14.20 Kasvintuhoojien käyttäytymisen tuntemisella parempiin torjuntatuloksiin\, Sari Himanen\, Luonnonvarakeskus \n14.50 Öljykasvien merkitys muuttuvissa olosuhteissa\, Mauri Yli-Liipola\, Pellervon taloustutkimus \n15.20 Tilaisuuden päätös ja iltapäiväkahvit \nMuutokset ohjelmaan ovat mahdollisia. \nSaapuminen\nKalevan Navetta sijaitsee aivan Seinäjoen keskustan tuntumassa\, kilometrin päässä matkakeskuksesta sekä Seinäjoen keskustorista. Rakennuksen pääovi sijaitsee Kalevan Navetan ja Itikanmäen asuintalojen välisen sisäpihan puolella. \nKalevan Navetan ympärillä on noin 50 autopaikkaa asiakkaille. Ensimmäiset kaksi (2) tuntia ovat ilmaisia automaatista saatavalla lipukkeella\, parkkikiekolla tai parkkisovelluksella (Moovy\, Parkman\, EasyPark)\, ja seuraavat tunnit maksavat 1 €/h. Kalevan Navetan edustalta löytyvät pysäköintitilat ovat rajalliset\, jonka vuoksi muut saapumisvaihtoehdot tai auton pysäköinti esimerkiksi Maakunnankadun yleiselle pysäköintialueelle (noin 700 m päässä Kalevan Navetalta) kannattaa pitää mielessä. Taksiliikennettä hoitaa Seinäjoella Keskustaksi. \nTarkemmat saapumisohjeet Kalevan Navetan verkkosivuilla. \nJärjestäjät\nÖljykasviseminaarin 2026 järjestää RypsiRapsi-foorumi\, Apetit ja Rypsin ja rapsin viljelyvarmuuden ja -määrän lisääminen -hanke\, joka on saanut rahoitusta Manner-Suomen maaseudun kehittämisohjelmasta Varsinais-Suomen\, Etelä-Pohjanmaa\, Uudenmaan\, Etelä-Savon ja Keski-Suomen Ely-keskusten kautta\, joiden tehtäviä hoitavat nykyisin Lounais-Suomen elinvoimakeskus\, Etelä-Pohjanmaan elinvoimakeskus\, Uudenmaan elinvoimakeskus\, Itä-Suomen elinvoimakeskus ja Keski-Suomen elinvoimakeskus.
URL:https://pyhajarvi-instituutti.fi/tapahtuma/oljykasviseminaari-2026/
ATTACH;FMTTYPE=image/jpeg:https://pyhajarvi-instituutti.fi/wp-content/uploads/2026/01/DSC_1973-scaled.jpg
END:VEVENT
BEGIN:VEVENT
DTSTART;TZID=Europe/Helsinki:20260325T140000
DTEND;TZID=Europe/Helsinki:20260325T150000
DTSTAMP:20260423T010534
CREATED:20260318T121657Z
LAST-MODIFIED:20260330T095202Z
UID:26924-1774447200-1774450800@pyhajarvi-instituutti.fi
SUMMARY:Maatalous murroksessa - Kestävyys ruokaketjussa
DESCRIPTION:Miksi vastuullisuusteemat ovat ruokataloille välttämättömiä? Mitä tarkoittaa vastuullisuus lihantuotannossa? Tervetuloa Ilmastokestävä ja vastuullinen lihantuotanto-koulutuskokonaisuuden kaikille tuotantosuunnille tarkoitettuun verkkokoulutukseemme keskiviikkona 25.3. klo 14-15. Kaikille tuotantosuunnille yhteisiä webinaareja järjestetään neljänä iltapäivänä maalis-huhtikuun aikana. Ensimmäisen koulutustilaisuuden aiheena on vastuullisuus. \nOhjelmassa:\n\nAloitussanat ja Ilmastokestävä ja vastuullinen lihantuotanto -hankkeen esittely\, Sanna Lipping\, Pyhäjärvi-instituutti\nMaatalouden kestävyys\, Sanna Lipping\, Pyhäjärvi-instituutti\nHKFoods ruokatalon vastuullisuusasiat\, Mira Jääskeläinen ja Mikko Järvinen\, HKFoods\nLoppukeskustelu\n\nIlmoittaudu mukaan tästä: https://link.webropol.com/ep/maatalous-murroksessa-25032026 \nIlmoittautumisesta tulee antamaasi sähköpostiin automaattisesti vahvistusviesti ja kalenterikutsu\, jossa on webinaarin osallistumislinkki. \nPyhäjärvi-instituutin koulutushanke ”Ilmastokestävä ja vastuullinen lihantuotanto” järjestää maksutonta vastuullisuuskoulutusta tuottajille. Tuottajille suunnatun koulutuskokonaisuuden avulla opitaan uutta ja tehdään näkyväksi tiloilla tehtävää monipuolista vastuullisuustyötä ja ympäristövalintoja. \nKoulutuskokonaisuus pitää sisällään kaikille avoimia vuorovaikutuksellisia verkkokoulutuksia\, jotka käynnistyvät maaliskuussa. Osallistumalla kahteen Maatalous murroksessa koulutukseen\, yhteen pellonpiennarpäivään ja kahteen tuotantosuuntaiseen koulutukseen tuottajat saavat todistuksen osallistumisestaan\, jonka avulla voi todentaa osaamistaan ja sitoutumistaan vastuullisuustyöhön omalla tilallaan. HKFoods on hankkeen yhteistyökumppani. \nTulossa:  \n(muutokset mahdollisia) \n14.4. klo 14-15\, Maatalous murroksessa – lannoitus kotieläintilalla \n21.4. klo 14-15\, Maatalous murroksessa – ilmastonmuutos ja peltojen vesienhallinta \n28.4. klo 14-15\, Maatalous murroksessa – tilan talouden kivijalka \n28.7. Täyden satopotentiaalin saavuttaminen – pellonpiennartilaisuus Varsinais-Suomessa \n4.8. Täyden satopotentiaalin saavuttaminen – pellonpiennartilaisuus Pohjois-Savossa \n6.10. Kasvua ja hyvinvointia – Broilerien hyvinvointi ja kuivikeratkaisut \n13.10. Kasvua ja hyvinvointia – Eläinten hyvinvointiin investointi broilertiloilla \n20.10. Kasvua ja hyvinvointia – Nurmisäilörehut ja teollisuuden sivuvirrat nautojen ruokinnassa \n27.10. Kasvua ja hyvinvointia  – Nautojen hyvinvointi \n10.11. Kasvua ja hyvinvointia – Eläinten hyvinvointi sikatiloilla \n17.11. Kasvua ja hyvinvointia – Salmonella ja afrikkalainen sikarutto
URL:https://pyhajarvi-instituutti.fi/tapahtuma/maatalous-murroksessa-kestavyys-ruokaketjussa/
LOCATION:Webinaari
ATTACH;FMTTYPE=image/png:https://pyhajarvi-instituutti.fi/wp-content/uploads/2026/03/Maatalous-murroksessa.png
END:VEVENT
END:VCALENDAR