BEGIN:VCALENDAR
VERSION:2.0
PRODID:-//Pyhäjärvi-instituutti - ECPv6.15.5//NONSGML v1.0//EN
CALSCALE:GREGORIAN
METHOD:PUBLISH
X-WR-CALNAME:Pyhäjärvi-instituutti
X-ORIGINAL-URL:https://pyhajarvi-instituutti.fi
X-WR-CALDESC:Tapahtumat Pyhäjärvi-instituutti
REFRESH-INTERVAL;VALUE=DURATION:PT1H
X-Robots-Tag:noindex
X-PUBLISHED-TTL:PT1H
BEGIN:VTIMEZONE
TZID:Europe/Helsinki
BEGIN:DAYLIGHT
TZOFFSETFROM:+0200
TZOFFSETTO:+0300
TZNAME:EEST
DTSTART:20260329T010000
END:DAYLIGHT
BEGIN:STANDARD
TZOFFSETFROM:+0300
TZOFFSETTO:+0200
TZNAME:EET
DTSTART:20261025T010000
END:STANDARD
END:VTIMEZONE
BEGIN:VEVENT
DTSTART;TZID=Europe/Helsinki:20260326T133000
DTEND;TZID=Europe/Helsinki:20260326T140000
DTSTAMP:20260423T010420
CREATED:20260218T090809Z
LAST-MODIFIED:20260324T184822Z
UID:26873-1774531800-1774533600@pyhajarvi-instituutti.fi
SUMMARY:Viljely muuttuvassa ilmastossa -webinaarisarja: Riskienhallinta ja taloudellisen kannattavuuden näkökulma
DESCRIPTION:Riskienhallinta ja taloudellisen kannattavuuden näkökulma \nAsiantuntija Eero Mäkipää pureutuu esityksessään ilmastonmuutoksen tuomien epävarmuuksien taloudellisiin vaikutuksiin ja näihin varautumiseen. Tavoitteena on tarjota ideoita siihen\, kuinka on mahdollista yhdistää taloudellinen tuotanto\, riskienhallinta ja ilmastonmuutoksen kannalta tarpeelliset muutokset tilatasolla. \nViljely muuttuvassa ilmastossa -webinaarisarja \nIlmastonmuutokseen varautuminen on alkutuotannon tulevaisuuden keskeisimpiä kysymyksiä. Tulevaisuuden ruokaketjut Varsinais-Suomessa\, Framtidens Matkedjor i Egentliga Finland -hankkeen kevään 2026 aikana järjestämä webinaarisarja tarjoaa alkutuottajille käytännönläheistä ja tutkimustietoon pohjautuvaa näkemystä siitä\, miten tilat voivat vahvistaa sopeutumiskykyään muuttuvissa olosuhteissa. Sarjan aikana tarkastellaan varautumista maan vesitalouden\, vaihtoehtoisten viljelykasvien\, taloudellisen kannattavuuden ja luonnon monimuotoisuuden näkökulmista. \nTapahtumiin voi ennakkoilmoittautua tilaisuutta edeltävään päivään asti osoitteessa: https://link.webropolsurveys.com/S/95996BB0DC72DC25 \nIlmoittautuneille lähetämme osallistumislinkin sähköpostitse. \nPääset liittymään tilaisuuteen ilmoittautumatta seuraavasta linkistä:\nViljely muuttuvassa ilmastossa -webinaarisarja: Riskienhallinta ja taloudellisen kannattavuuden näkökulma | Kokoukseen liittyminen | Microsoft Teams\nTilaisuudet järjestetään Euroopan unionin osarahoittaman Tulevaisuuden ruokaketjut Varsinais-Suomessa\, Framtidens Matkedjor i Egentliga Finland (TuRVa) -hankkeen toimesta\, joka on saanut EU:n maaseuturahoitusta Varsinais-Suomen ELY-keskuksen kautta\, jonka tehtäviä hoitaa nykyään Lounais-Suomen elinvoimakeskus. Toteuttajina Pyhäjärvi-instituutti\, Ukipolis\, Yrityssalo\, Kemiönsaaren kunta ja Novida.
URL:https://pyhajarvi-instituutti.fi/tapahtuma/alkutuotannon-varautuminen-muuttuvassa-ilmastossa-webinaarisarja-3/
ATTACH;FMTTYPE=image/jpeg:https://pyhajarvi-instituutti.fi/wp-content/uploads/2023/07/ochir-erdene-oyunmedeg-LmyPLbbUWhA-unsplash_kapea-scaled.jpg
END:VEVENT
BEGIN:VEVENT
DTSTART;TZID=Europe/Helsinki:20260326T160000
DTEND;TZID=Europe/Helsinki:20260326T174500
DTSTAMP:20260423T010420
CREATED:20260210T121057Z
LAST-MODIFIED:20260210T122649Z
UID:26841-1774540800-1774547100@pyhajarvi-instituutti.fi
SUMMARY:Lähiruokaa ammattikeittiöihin – miksi ja miten? Mellilässä
DESCRIPTION:Kohderyhmä: ammattikeittiötoimijat\, tuottajat\, kunnalliset luottamushenkilöt\nPaikka: Mellilän Kunnantalo\, Loukeentie 26\, Mellilä \nOhjelma \n16.00              Kahvitarjoilu ja tervetulotoivotus \n16.15               Lähiraaka-aineiden hankinta ravintolaan ja Mellilän kunnantalon yritysesittely\, Mauri Nurmi\, Mellilän Pippuri \n16.25               Lähi- ja luomuruoan käyttö ammattikeittiöissä ja niiden aluetalousvaikutukset\, Johanna Mattila\, Lounais-Suomen elinvoimakeskus \n16.40               Lähituotteita julkisiin keittiöihin dynaamisen hankintajärjestelmän avulla\, Ari Heikkilä\, Kaarea Oy \n17.00               Luomuruoan osuuden kasvattaminen Salon kaupungin ruokapalveluissa – kokemuksia ja oppeja\, Mari Portaala\, Salon kaupunki \n17.15                Yhteenveto ja keskustelua \nIlmoittautuminen viimeistään keskiviikkona 18.3.2026: https://link.webropolsurveys.com/EP/468D1E6F26E002B4 \nLisätietoja: Kai Alajoki\, kai.alajoki@novida.fi\, 040 565 8017 / Laura Varjotie\, laura.varjotie@pji.fi\, 044 045 6403 \nTilaisuuden järjestää Tulevaisuuden Ruokaketjut Varsinais-Suomessa (TuRVa) -hanke ja Lähempää lautaselle -hanke\, jotka ovat saaneet EU:n maaseuturahoitusta.
URL:https://pyhajarvi-instituutti.fi/tapahtuma/lahiruokaa-ammattikeittioihin-miksi-ja-miten/
ATTACH;FMTTYPE=image/jpeg:https://pyhajarvi-instituutti.fi/wp-content/uploads/2026/02/hnbs-salad-bar-2094459_1280.jpg
END:VEVENT
END:VCALENDAR