BEGIN:VCALENDAR
VERSION:2.0
PRODID:-//Pyhäjärvi-instituutti - ECPv6.15.5//NONSGML v1.0//EN
CALSCALE:GREGORIAN
METHOD:PUBLISH
X-WR-CALNAME:Pyhäjärvi-instituutti
X-ORIGINAL-URL:https://pyhajarvi-instituutti.fi
X-WR-CALDESC:Tapahtumat Pyhäjärvi-instituutti
REFRESH-INTERVAL;VALUE=DURATION:PT1H
X-Robots-Tag:noindex
X-PUBLISHED-TTL:PT1H
BEGIN:VTIMEZONE
TZID:Europe/Helsinki
BEGIN:DAYLIGHT
TZOFFSETFROM:+0200
TZOFFSETTO:+0300
TZNAME:EEST
DTSTART:20260329T010000
END:DAYLIGHT
BEGIN:STANDARD
TZOFFSETFROM:+0300
TZOFFSETTO:+0200
TZNAME:EET
DTSTART:20261025T010000
END:STANDARD
END:VTIMEZONE
BEGIN:VEVENT
DTSTART;TZID=Europe/Helsinki:20260421T140000
DTEND;TZID=Europe/Helsinki:20260421T150000
DTSTAMP:20260421T014422
CREATED:20260406T094644Z
LAST-MODIFIED:20260413T074336Z
UID:26949-1776780000-1776783600@pyhajarvi-instituutti.fi
SUMMARY:Maatalous murroksessa - Ilmastonmuutos ja peltojen vesienhallinta
DESCRIPTION:Ilmastonmuutos haastaa maataloutta monin eri tavoin. Sään ääri-ilmiöiden kuten kuivien aikojen ja runsaiden sateiden odotetaan lisääntyvän\, talviaikaiset olosuhteet muuttuvat ja muutoksia nähdään todennäköisesti myös ravinteiden kulkeutumisessa\, rikkakasvien ja tuholaisten muutoksena sekä uusien viljelykasvien muodossa. Miten ilmastonmuutokseen voidaan varautua ja mitä toimia tilalla voidaan tehdä esimerkiksi peltojen vesienhallinnan näkökulmasta? Tervetuloa Ilmastokestävä ja vastuullinen lihantuotanto-koulutuskokonaisuuden kaikille tuotantosuunnille tarkoitettuun verkkokoulutukseemme tiistaina 21.4. klo 14-15. Kaikille tuotantosuunnille yhteisiä webinaareja järjestetään neljänä iltapäivänä maalis-huhtikuun aikana. Kolmannen koulutustilaisuuden aiheena on ilmastonmuutos ja peltojen vesienhallinta. \nOhjelmassa:\n\nAloitussanat ja Ilmastokestävä ja vastuullinen lihantuotanto -hankkeen esittely\, Sanna Lipping\, Pyhäjärvi-instituutti\nPeltojen vesienhallinta\, Jari Ruski\, Pyhäjärvi-instituutti\nIlmastonmuutoksen vaikutukset valuma-alueen vesienhallinnassa\, Case Säkylän Pyhäjärvi\, Lauri Anttila\, Pyhäjärvi-instituutti\nValtaojien kunnossapidon käynnistäminen\, Outi Leppiniemi\, Lounais-Suomen elinvoimakeskus\nLoppukeskustelu\n\nIlmoittaudu mukaan tästä linkistä: https://link.webropol.com/ep/maatalous-murroksessa-21042026 \nIlmoittautumisesta tulee antamaasi sähköpostiin automaattisesti vahvistusviesti ja kalenterikutsu\, jossa on webinaarin osallistumislinkki. \nPyhäjärvi-instituutin koulutushanke ”Ilmastokestävä ja vastuullinen lihantuotanto” järjestää maksutonta vastuullisuuskoulutusta tuottajille. Tuottajille suunnatun koulutuskokonaisuuden avulla opitaan uutta ja tehdään näkyväksi tiloilla tehtävää monipuolista vastuullisuustyötä ja ympäristövalintoja. \nKoulutuskokonaisuus pitää sisällään kaikille avoimia vuorovaikutuksellisia verkkokoulutuksia\, jotka käynnistyvät maaliskuussa. Osallistumalla kahteen Maatalous murroksessa koulutukseen\, yhteen pellonpiennarpäivään ja kahteen tuotantosuuntaiseen koulutukseen tuottajat saavat todistuksen osallistumisestaan\, jonka avulla voi todentaa osaamistaan ja sitoutumistaan vastuullisuustyöhön omalla tilallaan. HKFoods on hankkeen yhteistyökumppani. \nTulossa:  \n(muutokset mahdollisia) \n28.4. klo 14-15\, Maatalous murroksessa – tilan talouden kivijalka \n28.7. Täyden satopotentiaalin saavuttaminen – pellonpiennartilaisuus Varsinais-Suomessa \n4.8. Täyden satopotentiaalin saavuttaminen – pellonpiennartilaisuus Pohjois-Savossa \n6.10. Kasvua ja hyvinvointia – Broilerien hyvinvointi ja kuivikeratkaisut \n13.10. Kasvua ja hyvinvointia – Eläinten hyvinvointiin investointi broilertiloilla \n20.10. Kasvua ja hyvinvointia – Nurmisäilörehut ja teollisuuden sivuvirrat nautojen ruokinnassa \n27.10. Kasvua ja hyvinvointia  – Nautojen hyvinvointi \n10.11. Kasvua ja hyvinvointia – Eläinten hyvinvointi sikatiloilla \n17.11. Kasvua ja hyvinvointia – Salmonella ja afrikkalainen sikarutto
URL:https://pyhajarvi-instituutti.fi/tapahtuma/maatalous-murroksessa-ilmastonmuutos-ja-peltojen-vesienhallinta/
LOCATION:Webinaari
CATEGORIES:Ajankohtaista
ATTACH;FMTTYPE=image/png:https://pyhajarvi-instituutti.fi/wp-content/uploads/2026/03/Maatalous-murroksessa.png
END:VEVENT
END:VCALENDAR