BEGIN:VCALENDAR
VERSION:2.0
PRODID:-//Pyhäjärvi-instituutti - ECPv6.15.5//NONSGML v1.0//EN
CALSCALE:GREGORIAN
METHOD:PUBLISH
X-WR-CALNAME:Pyhäjärvi-instituutti
X-ORIGINAL-URL:https://pyhajarvi-instituutti.fi
X-WR-CALDESC:Tapahtumat Pyhäjärvi-instituutti
REFRESH-INTERVAL;VALUE=DURATION:PT1H
X-Robots-Tag:noindex
X-PUBLISHED-TTL:PT1H
BEGIN:VTIMEZONE
TZID:Europe/Helsinki
BEGIN:DAYLIGHT
TZOFFSETFROM:+0200
TZOFFSETTO:+0300
TZNAME:EEST
DTSTART:20250330T010000
END:DAYLIGHT
BEGIN:STANDARD
TZOFFSETFROM:+0300
TZOFFSETTO:+0200
TZNAME:EET
DTSTART:20251026T010000
END:STANDARD
END:VTIMEZONE
BEGIN:VEVENT
DTSTART;TZID=Europe/Helsinki:20250514T090000
DTEND;TZID=Europe/Helsinki:20250514T120000
DTSTAMP:20260425T175143
CREATED:20250506T092734Z
LAST-MODIFIED:20250514T113714Z
UID:26000-1747213200-1747224000@pyhajarvi-instituutti.fi
SUMMARY:Syysöljykasvien kasvustokatsaus Kokemäellä
DESCRIPTION:Tervetuloa tutustumaan syysöljykasvien lajikekaistakokeisiin Kokemäelle! Kokeissa on mukana 20 eri syysöljykasvilajiketta: kyseessä on poikkeuksellisen laaja peltomittakaavan lajiketestaus.  Tämä kokonaisuus kannattaa ehdottomasti nähdä! \nLajikkeiden lisäksi kokeissa testataan viljelyteknisisä keinoja syysöljykasvien talvehtimisen parantamiseksi. Kokeet on kylvetty mataliin harjuihin ja eri kasvunsäädekäsittelyillä on haettu toimivinta tapaa ehkäistä kasvupisteiden nouseminen liian korkealle. \nTilaisuudessa on mukana kokeneita rypsin ja rapsin viljelijöitä sekä lajike-edustajia. Tapahtuma tarjoaa erinomaisen mahdollisuuden kartuttaa omaa asiantuntemusta syysöljykasvien viljelystä. \nIlmoittaudu mukaan 13.5. mennessä: https://link.webropolsurveys.com/EP/77A5A4B79C5652C2 \nOhjelma: \n9.00 Tilaisuuden avaus ja RypsiRapsi-foorumin terveiset\, Johanna Pihala/Sauli Jaakkola\, Pyhäjärvi-instituutti \n9.15 Kokeiden esittely\, Risto Tupi\, viljelijä \nSiirtyminen koekaistoille\, kasvustoihin tutustuminen ja lajike-edustajien puheenvuorot – lista päivittyy!\nHannes Höykälä\, BASF\nClaus Nymand\, Anu Jumppanen\, KWS\nMinni Tarkkanen\, Elias Heliander\, Bayer Crop Science \n12.00 Tilaisuus päättyy \nLounas (omakustanteinen)
URL:https://pyhajarvi-instituutti.fi/tapahtuma/syysoljykasvien-kasvustokatsaus-kokemaella/
LOCATION:Kuurolantie 184\, Kokemäki\, Kuurolantie 184\, Kokemäki
ATTACH;FMTTYPE=image/png:https://pyhajarvi-instituutti.fi/wp-content/uploads/2025/05/Syysoljykasvien-kasvustokatsaus-Kokemaella-Facebook-kansikuva.png
END:VEVENT
BEGIN:VEVENT
DTSTART;TZID=Europe/Helsinki:20250521T100000
DTEND;TZID=Europe/Helsinki:20250521T130000
DTSTAMP:20260425T175143
CREATED:20250424T092959Z
LAST-MODIFIED:20250521T093614Z
UID:25976-1747821600-1747832400@pyhajarvi-instituutti.fi
SUMMARY:Pellonpiennartilaisuus\, robottitraktori käytännön töissä
DESCRIPTION:Pellonpiennartilaisuus Kiukaisisissa. Tilaisuudessa esitellään robottitraktori Agxeed. \nLinkki tapahtuman sivulle: https://maaseutuverkosto.fi/tapahtumat/pellonpiennartilaisuus-robottitraktori-kaytannon-toissa/ \nIlmoittaudu mukaan tästä: https://forms.office.com/e/zufAh08y3h \nTyönäytökset klo 10.00 ja 11.30. \nTapahtuman järjestää SmartFarm Satakunta -hanke\, joka on maaseuturahaston rahoittama EIP-hanke. Hanke on Euroopan unionin osarahoittama. Pyhäjärvi-instituutin hankkeista mukana Työkaluja uudistuvaan typen hyödyntämiseen avomaan puutarhatuotannossa (pääkoordinoija Luonnonvarakeskus) ja Kasvisten uudet kasvinsuojelumenetelmät -hanke. \n 
URL:https://pyhajarvi-instituutti.fi/tapahtuma/pellonpiennartilaisuus-robottitraktori-kaytannon-toissa/
LOCATION:Eura\, Harolantie 235\, Eura
ATTACH;FMTTYPE=image/png:https://pyhajarvi-instituutti.fi/wp-content/uploads/2025/04/peltotraktori.png
END:VEVENT
BEGIN:VEVENT
DTSTART;TZID=Europe/Helsinki:20250521T170000
DTEND;TZID=Europe/Helsinki:20250521T193000
DTSTAMP:20260425T175143
CREATED:20250505T074236Z
LAST-MODIFIED:20250520T111618Z
UID:25898-1747846800-1747855800@pyhajarvi-instituutti.fi
SUMMARY:Karvianjoen yläosan valuma-alueen kunnostushankkeen loppuseminaari / Vesi-ilta
DESCRIPTION:Tervetuloa Karvianjoen yläosan valuma-alueen kunnostushankkeen loppuseminaariin\, jossa käydään läpi hankkeen aikaansaannoksia ja havaintoja. Loppuseminaari järjestetään Karviassa KVVY Yhdistyksen Vesi-illan yhteydessä ja illan aikana keskustellaan monipuolisesti alueen vesistöihin liittyvistä asioista. Kaikki kiinnostuneet ovat tervetulleita mukaan! Kahvia on tarjolla klo 17 alkaen ja varsinainen ohjelma alkaa klo 17.30. \nKeskiviikkona 21.5. järjestettävän Vesi-illan ja Karvianjoen yläosan valuma-alueen kunnostushankkeen loppuseminaarin yhteydessä on nyt myös mahdollisuus tutustua kahteen Karvian alueella sijaitsevaan pohjakynnyskohteeseen\, Kettuluomaan ja Tuhannenmyllynlaksoon. \nLähtö: klo 14 Karvian kunnantalolta (Kylä-Karviantie 17) \nPaluu: klo 16.30\, illan tilaisuus alkaa klo 17 \nKuljetus: kimppakyydein\, sovitaan paikan päällä osallistujien kesken. \nVarustus: Säänmukainen vaatetus ja saappaat. Kohteet sijaitsevat metsätalousmaalla\, ja kävelyä tulee jonkin verran. \n  \nIlmoittauduthan viimeistään maanantaina 19.5.: https://link.webropol.com/ep/Vesi-iltaKarvia21052025 \n \n 
URL:https://pyhajarvi-instituutti.fi/tapahtuma/karvianjoen-ylaosan-valuma-alueen-kunnostushankkeen-loppuseminaari/
LOCATION:Karvian kunnantalo\, Kylä-Karviantie 17\, Karvia\, 39930
ATTACH;FMTTYPE=image/jpeg:https://pyhajarvi-instituutti.fi/wp-content/uploads/2025/03/20241108_102513-scaled.jpg
END:VEVENT
END:VCALENDAR