BEGIN:VCALENDAR
VERSION:2.0
PRODID:-//Pyhäjärvi-instituutti - ECPv6.15.5//NONSGML v1.0//EN
CALSCALE:GREGORIAN
METHOD:PUBLISH
X-ORIGINAL-URL:https://pyhajarvi-instituutti.fi
X-WR-CALDESC:Tapahtumat Pyhäjärvi-instituutti
REFRESH-INTERVAL;VALUE=DURATION:PT1H
X-Robots-Tag:noindex
X-PUBLISHED-TTL:PT1H
BEGIN:VTIMEZONE
TZID:Europe/Helsinki
BEGIN:DAYLIGHT
TZOFFSETFROM:+0200
TZOFFSETTO:+0300
TZNAME:EEST
DTSTART:20250330T010000
END:DAYLIGHT
BEGIN:STANDARD
TZOFFSETFROM:+0300
TZOFFSETTO:+0200
TZNAME:EET
DTSTART:20251026T010000
END:STANDARD
END:VTIMEZONE
BEGIN:VEVENT
DTSTART;TZID=Europe/Helsinki:20250602T120000
DTEND;TZID=Europe/Helsinki:20250602T140000
DTSTAMP:20260425T155913
CREATED:20250516T093631Z
LAST-MODIFIED:20250530T053401Z
UID:26082-1748865600-1748872800@pyhajarvi-instituutti.fi
SUMMARY:Syysöljykasvien kasvustokatsaus Somerolla
DESCRIPTION:Somerolle perustettiin kesällä 2024 syysrypsikasvusto kylvämällä se ohran aluskasviksi. Kasvustot kehittyivät hyvin ja talvehtimisen kannalta ne näyttivät syksyllä 2025 erinomaisilta. Samalle tilalle perustettiin myös syysrapsikasvusto tavanomaisesta poikkeavalla tavalla – kultivaattorilla. Tämäkin kasvusto oli talven kynnyksellä erittäin elinvoimainen. Miltä kasvustot näyttävät nyt\, miten talvehtiminen onnistui? Kannattaako näitä perustamistapoja hyödyntää viljelyssä? Tule Somerolle ottamaan asiasta selvää! Pellonpiennartilaisuudessa esitellään kokeita ja käydään lävitse syysöljykasvien viljelytekniikkaa laajemminkin. \nPaikka: Lepänsangantie 365\, Somero \nIlmoittaudu tilaisuuteen 28.5. mennessä: https://link.webropolsurveys.com/EP/BB4CB35EDACE48E3 \nOhjelma \n12.00  Kahvit ja tilaisuuden avaus\, Johanna Pihala/Sauli Jaakkola\, RypsiRapsi-foorumi \n12.10  Syysöljykasvien talvehtiminen – näin varmistat onnistumista\, Lasse Matikainen\, viljelijä \n12.30  Syysöljykasvien lannoitus/Anna-Kaisa Salovaara\, Yara Suomi Oy \n12.45  Syysrypsikokeen esittely\, Mikko Kaase\, Apetit Kasviöljy Oy \nKasvustoihin tutustuminen \n13.20  Siirtyminen kultivaattorilla kylvetylle syysrapsikokeelle \n13.30  Syysrapsikokeen esittely\, Mikko Kaase\, Apetit Kasviöljy Oy \nKasvustoihin tutustuminen \n14.00  Tilaisuus päättyy
URL:https://pyhajarvi-instituutti.fi/tapahtuma/syysoljykasvien-kasvustokatsaus-somerolla/
ATTACH;FMTTYPE=image/png:https://pyhajarvi-instituutti.fi/wp-content/uploads/2025/05/Kopio-Kopio-Syysoljykasvien-kasvustokatsaus-Kokemaella-Facebook-kansikuva.png
END:VEVENT
BEGIN:VEVENT
DTSTART;TZID=Europe/Helsinki:20250602T180000
DTEND;TZID=Europe/Helsinki:20250602T200000
DTSTAMP:20260425T155913
CREATED:20250509T110140Z
LAST-MODIFIED:20250530T053549Z
UID:26005-1748887200-1748894400@pyhajarvi-instituutti.fi
SUMMARY:Vesikasvit tutuksi Ilmijärven rannalla
DESCRIPTION:Nyt on hyvä hetki päivittää tietoa vesikasveista! Mitä eroa on järvikaislalla ja järviruo’olla? Mistä tunnistan uistinvidan ja eroaako se paljon ahvenvidasta? Mitä on se pitkä hiusmainen kasvusto\, mikä takertuu airoihin rantavesissä? Mitkä ovat yleisimmät vesikasvit rannoilla ja vesissä? Mitä ovat rantojemme vieraslajit ja miten ne tunnistaa? Onko jokin kasvi haitallinen? \nSatavesi virtaa – paikallisvedet paremmiksi -hankkeessa järjestämme viisi vesikasvikurssia kohdevesissämme. Tervetuloa kuulemaan kasveista ja kysymään hyviä kysymyksiä asiantuntijoiltamme. Tilaisuuksiin on ilmoittautuminen kahvitusta varten. \nAjankohdat ja ilmoittautumislinkit:\n2.6. klo 18-20 Ilmijärvi\, Ilmilinnantie 26\, Kokemäki\, ilmoittaudu 28.5. mennessä: https://link.webropol.com/s/vesikasvikurssi-020625 \n3.6. klo 18.30-20.30 jokiympäristöt\, Esterin kylätupa\, Kaukomäentie 2\, Eurajoki\, ilmoittaudu 28.5. mennessä: https://link.webropol.com/s/eurajoki-lapijoki-030625 \n4.6. klo 18-20 Loukostenjärvi\, Loukostentie 112A\, Eura\, ilmoittaudu 28.5. mennessä: https://link.webropol.com/s/loukonen-040625 \n9.6. klo 18-20 Turajärvi\, Tittalantie 51\, Eurajoki\, ilmoittaudu 5.6. mennessä: https://link.webropol.com/s/turajarvi-090625 \n16.6. klo 18-20 Lutanjärvi\, Lapintie 557\, Eurajoki (kylän uimaranta)\, ilmoittaudu 12.6. mennessä: https://link.webropol.com/s/lutanjarvi-160625
URL:https://pyhajarvi-instituutti.fi/tapahtuma/vesikasvit-tutuksi-ilmijarven-rannalla/
LOCATION:Ilmilinnantie 26\, Kokemäki
ATTACH;FMTTYPE=image/jpeg:https://pyhajarvi-instituutti.fi/wp-content/uploads/2025/01/87FC6E11-719F-4E06-AB6B-955CB380D0ED.jpg
END:VEVENT
BEGIN:VEVENT
DTSTART;TZID=Europe/Helsinki:20250603T130000
DTEND;TZID=Europe/Helsinki:20250603T150000
DTSTAMP:20260425T155913
CREATED:20250515T082310Z
LAST-MODIFIED:20250603T113648Z
UID:26063-1748955600-1748962800@pyhajarvi-instituutti.fi
SUMMARY:Erityisestä menestykseksi – nimisuoja myyntivalttina -webinaari
DESCRIPTION:Tuotteen nimisuoja kertoo tarinaa alkuperästä ja laadusta. Siitä\, että tuote on erityinen. Mutta miten nimisuojamerkistä tehdään myyntivaltti\, joka tuottaa lisäarvoa elintarvikeyrityksille sekä matkailu- ja ravintola-alalle? \nIlmoittaudu mukaan kuulemaan kansainvälisiä menestystarinoita sekä kokemuksia kotimaisten nimisuojatuotteiden brändäämisestä ja hyödyntämisestä maksuttomaan webinaariin tiistaina 3.6. klo 13–15. Linkki ilmoittautumiseen: https://www.lyyti.fi/reg/nimisuoja-webinaari \nWebinaarissa Lionel Lalagüe Cognac BNIC:ltä ja Massimo Vittori OriGIniltä  alustavat puheenvuoroissaan siitä\, miten tuotteesta rakennetaan nimisuojan avulla kansainvälinen\, kaikkien tuntema brändi. Paneelikeskustelussa äänessä on suomalaisten nimisuojatuotteiden tuottajia ja matkailun edustajia. Suomalaisella nimisuojakentällä nimittäin tapahtuu: rekisteröityjä tuotteita on pian 16\, hakemuksia on jätetty viime vuonna 18 ja EU-komission käsittelyssä on viisi hakemusta. Viimeistään nyt on aika hypätä mukaan kuulemaan\, mistä tässä pöhinässä on kyse!
URL:https://pyhajarvi-instituutti.fi/tapahtuma/erityisesta-menestykseksi-nimisuoja-myyntivalttina-webinaari/
ATTACH;FMTTYPE=image/png:https://pyhajarvi-instituutti.fi/wp-content/uploads/2025/05/250514_nimisuoja_LI_1200x627_D3.png
END:VEVENT
BEGIN:VEVENT
DTSTART;TZID=Europe/Helsinki:20250603T183000
DTEND;TZID=Europe/Helsinki:20250603T203000
DTSTAMP:20260425T155914
CREATED:20250509T110228Z
LAST-MODIFIED:20250509T121404Z
UID:26010-1748975400-1748982600@pyhajarvi-instituutti.fi
SUMMARY:Vesikasvit tutuksi jokiympäristöissä
DESCRIPTION:Nyt on hyvä hetki päivittää tietoa vesikasveista! Mitä eroa on järvikaislalla ja järviruo’olla? Mistä tunnistan uistinvidan ja eroaako se paljon ahvenvidasta? Mitä on se pitkä hiusmainen kasvusto\, mikä takertuu airoihin rantavesissä? Mitkä ovat yleisimmät vesikasvit rannoilla ja vesissä? Mitä ovat rantojemme vieraslajit ja miten ne tunnistaa? Onko jokin kasvi haitallinen? \nSatavesi virtaa – paikallisvedet paremmiksi -hankkeessa järjestämme viisi vesikasvikurssia kohdevesissämme. Tervetuloa kuulemaan kasveista ja kysymään hyviä kysymyksiä asiantuntijoiltamme. Tilaisuuksiin on ilmoittautuminen kahvitusta varten. \nAjankohdat ja ilmoittautumislinkit:\n3.6. klo 18.30-20.30 jokiympäristöt\, Esterin kylätupa\, Kaukomäentie 2\, Eurajoki\, ilmoittaudu 28.5. mennessä: https://link.webropol.com/s/eurajoki-lapijoki-030625 \n4.6. klo 18-20 Loukostenjärvi\, Loukostentie 112A\, Eura\, ilmoittaudu 28.5. mennessä: https://link.webropol.com/s/loukonen-040625 \n9.6. klo 18-20 Turajärvi\, Tittalantie 51\, Eurajoki\, ilmoittaudu 5.6. mennessä: https://link.webropol.com/s/turajarvi-090625 \n16.6. klo 18-20 Lutanjärvi\, Lapintie 557\, Eurajoki (kylän uimaranta)\, ilmoittaudu 12.6. mennessä: https://link.webropol.com/s/lutanjarvi-160625
URL:https://pyhajarvi-instituutti.fi/tapahtuma/vesikasvit-tutuksi-jokiymparistoissa/
LOCATION:Kaukomäentie 2\, Eurajoki
ATTACH;FMTTYPE=image/jpeg:https://pyhajarvi-instituutti.fi/wp-content/uploads/2023/09/20210927_085218-scaled.jpg
END:VEVENT
BEGIN:VEVENT
DTSTART;TZID=Europe/Helsinki:20250604T180000
DTEND;TZID=Europe/Helsinki:20250604T200000
DTSTAMP:20260425T155914
CREATED:20250509T115128Z
LAST-MODIFIED:20250509T121332Z
UID:26014-1749060000-1749067200@pyhajarvi-instituutti.fi
SUMMARY:Vesikasvit tutuksi Loukostenjärven rannalla
DESCRIPTION:Nyt on hyvä hetki päivittää tietoa vesikasveista! Mitä eroa on järvikaislalla ja järviruo’olla? Mistä tunnistan uistinvidan ja eroaako se paljon ahvenvidasta? Mitä on se pitkä hiusmainen kasvusto\, mikä takertuu airoihin rantavesissä? Mitkä ovat yleisimmät vesikasvit rannoilla ja vesissä? Mitä ovat rantojemme vieraslajit ja miten ne tunnistaa? Onko jokin kasvi haitallinen? \nSatavesi virtaa – paikallisvedet paremmiksi -hankkeessa järjestämme viisi vesikasvikurssia kohdevesissämme. Tervetuloa kuulemaan kasveista ja kysymään hyviä kysymyksiä asiantuntijoiltamme. Tilaisuuksiin on ilmoittautuminen kahvitusta varten. \nAjankohdat ja ilmoittautumislinkit:\n4.6. klo 18-20 Loukostenjärvi\, Loukostentie 112A\, Eura\, ilmoittaudu 28.5. mennessä: https://link.webropol.com/s/loukonen-040625 \n9.6. klo 18-20 Turajärvi\, Tittalantie 51\, Eurajoki\, ilmoittaudu 5.6. mennessä: https://link.webropol.com/s/turajarvi-090625 \n16.6. klo 18-20 Lutanjärvi\, Lapintie 557\, Eurajoki (kylän uimaranta)\, ilmoittaudu 12.6. mennessä: https://link.webropol.com/s/lutanjarvi-160625
URL:https://pyhajarvi-instituutti.fi/tapahtuma/vesikasvit-tutuksi-loukostenjarven-rannalla/
LOCATION:Loukostentie 112A\, Eura
ATTACH;FMTTYPE=image/jpeg:https://pyhajarvi-instituutti.fi/wp-content/uploads/2025/05/20240606_094809-scaled.jpg
END:VEVENT
BEGIN:VEVENT
DTSTART;TZID=Europe/Helsinki:20250609T180000
DTEND;TZID=Europe/Helsinki:20250609T200000
DTSTAMP:20260425T155914
CREATED:20250509T115525Z
LAST-MODIFIED:20250605T124525Z
UID:26019-1749492000-1749499200@pyhajarvi-instituutti.fi
SUMMARY:Vesikasvit tutuksi Turajärven rannalla
DESCRIPTION:Nyt on hyvä hetki päivittää tietoa vesikasveista! Mitä eroa on järvikaislalla ja järviruo’olla? Mistä tunnistan uistinvidan ja eroaako se paljon ahvenvidasta? Mitä on se pitkä hiusmainen kasvusto\, mikä takertuu airoihin rantavesissä? Mitkä ovat yleisimmät vesikasvit rannoilla ja vesissä? Mitä ovat rantojemme vieraslajit ja miten ne tunnistaa? Onko jokin kasvi haitallinen? \nSatavesi virtaa – paikallisvedet paremmiksi -hankkeessa järjestämme viisi vesikasvikurssia kohdevesissämme. Tervetuloa kuulemaan kasveista ja kysymään hyviä kysymyksiä asiantuntijoiltamme. Tilaisuuksiin on ilmoittautuminen kahvitusta varten. \nAjankohdat ja ilmoittautumislinkit:\n9.6. klo 18-20 Turajärvi\, Tittalantie 51\, Eurajoki\, ilmoittaudu 5.6. mennessä: https://link.webropol.com/s/turajarvi-090625 \n16.6. klo 18-20 Lutanjärvi\, Lapintie 557\, Eurajoki (kylän uimaranta)\, ilmoittaudu 12.6. mennessä: https://link.webropol.com/s/lutanjarvi-160625
URL:https://pyhajarvi-instituutti.fi/tapahtuma/vesikasvit-tutuksi-turajarven-rannalla/
LOCATION:Tittalantie 51\, Eurajoki
ATTACH;FMTTYPE=image/jpeg:https://pyhajarvi-instituutti.fi/wp-content/uploads/2025/05/Niittoaluetta-ennen-toimia_AIR-3_JT-scaled.jpg
END:VEVENT
BEGIN:VEVENT
DTSTART;TZID=Europe/Helsinki:20250610T100000
DTEND;TZID=Europe/Helsinki:20250610T120000
DTSTAMP:20260425T155914
CREATED:20250520T111512Z
LAST-MODIFIED:20250610T073849Z
UID:26087-1749549600-1749556800@pyhajarvi-instituutti.fi
SUMMARY:Tiedekulma: Pienet osaamiskokonaisuudet ja osaamisdata -työpaja
DESCRIPTION:Tervetuloa Helsingin yliopiston Tiedekulmassa järjestettävään Pienet osaamiskokonaisuudet ja osaamisdata -työpajatilaisuuteen 10.6. klo 10-12. \nTyöstetään yhdessä koulutuspolitiikkaa varten koottavia menetelmiä ja suosituksia liittyen pieniin osaamiskokonaisuuksiin ja osaamisdataan. Aiheeseen johdattaa kolme asiantuntijapuheenvuoroa\, mutta tilaisuudessa keskitytään avoimeen keskusteluun ja yhteistyöhön. \nIlmoittaudu viimeistään 4.6.2025: https://link.webropolsurveys.com/EP/08DDF8BC55B804FE \nOHJELMA \nTilaisuuden avaus: Polkuja pienten osaamiskokonaisuuksien kehitystyössä\nKiertotalousasiantuntija Pekka Maijala\, Pyhäjärvi-instituutti \nPienet osaamiskokonaisuudet ammatillisessa koulutuksessa Suomessa\nOpetusneuvos Satu Nygård\, Opetushallitus \nOsaamisdatalla osuvaa osaamista yrityksille\nKoulutuspolitiikan päällikkö Touko Apajalahti\, Teknologiateollisuus ry \nKyseessä on MASTERY – Micro credentials reliability unleashing green economy -hankkeen työpajatilaisuus\, jossa voi vaikuttaa hankkeen koulutuspolitiikkaa varten koottaviin menetelmiin ja suosituksiin liittyen pieniin osaamiskokonaisuuksiin. Monipuoliset näkemykset aiheesta ovat elintärkeitä EU:n talouden avainalojen osaamisen muovaamisessa kohti tulevaa.
URL:https://pyhajarvi-instituutti.fi/tapahtuma/tiedekulma-pienet-osaamiskokonaisuudet-ja-osaamisdata-tyopaja/
LOCATION:Tiedekulma\, Think Lounge (201)\, Yliopistonkatu 4\, Helsinki
ATTACH;FMTTYPE=image/png:https://pyhajarvi-instituutti.fi/wp-content/uploads/2025/05/mastery-106-1.png
END:VEVENT
BEGIN:VEVENT
DTSTART;TZID=Europe/Helsinki:20250616T180000
DTEND;TZID=Europe/Helsinki:20250616T200000
DTSTAMP:20260425T155914
CREATED:20250509T115955Z
LAST-MODIFIED:20251118T105408Z
UID:26024-1750096800-1750104000@pyhajarvi-instituutti.fi
SUMMARY:Vesikasvit tutuksi Lutanjärven rannalla
DESCRIPTION:Nyt on hyvä hetki päivittää tietoa vesikasveista! Mitä eroa on järvikaislalla ja järviruo’olla? Mistä tunnistan uistinvidan ja eroaako se paljon ahvenvidasta? Mitä on se pitkä hiusmainen kasvusto\, mikä takertuu airoihin rantavesissä? Mitkä ovat yleisimmät vesikasvit rannoilla ja vesissä? Mitä ovat rantojemme vieraslajit ja miten ne tunnistaa? Onko jokin kasvi haitallinen? \nSatavesi virtaa – paikallisvedet paremmiksi -hankkeessa järjestämme viisi vesikasvikurssia kohdevesissämme. Tervetuloa kuulemaan kasveista ja kysymään hyviä kysymyksiä asiantuntijoiltamme. Tilaisuuksiin on ilmoittautuminen kahvitusta varten. Viimeinen kurssi-ilta järjestetään Lutanjärven rannalla. \n16.6. klo 18-20 Lutanjärvi\, Lapintie 557\, Eurajoki (kylän uimaranta)\, ilmoittaudu 12.6. mennessä: https://link.webropol.com/s/lutanjarvi-160625
URL:https://pyhajarvi-instituutti.fi/tapahtuma/vesikasvit-tutuksi-lutanjarven-rannalla/
LOCATION:Lapintie 557\, Eurajoki
ATTACH;FMTTYPE=image/jpeg:https://pyhajarvi-instituutti.fi/wp-content/uploads/2025/05/10.7.2024_Lutanjarvi_lansireunan-kasvillisuutta_JT_AIR-3-scaled.jpg
END:VEVENT
BEGIN:VEVENT
DTSTART;TZID=Europe/Helsinki:20250617T140000
DTEND;TZID=Europe/Helsinki:20250617T160000
DTSTAMP:20260425T155914
CREATED:20250514T122510Z
LAST-MODIFIED:20250618T063655Z
UID:26051-1750168800-1750176000@pyhajarvi-instituutti.fi
SUMMARY:Täyden satopotentiaalin saavuttaminen\, Pohjois-Karjala
DESCRIPTION:Tervetuloa pellonpiennartapahtumaan (Voudinsuo 5\, 83400 Liperi) 17.6.2025 klo 14-16! Tapahtumassa kuulemme mm. maaperän kasvukunnosta ja lannoituksen optimoinnista. Lisäksi pääsemme kuulemaan lihan markkinakatsauksesta ja kokemuksia rehuherneestä viljelykierrossa. \nOhjelma: \nTilaisuuden avaus\, Sanna Lipping\, Pyhäjärvi-instituutti \nLihamarkkinakatsaus\, Nina Vanhapelto\, HKFoods \nMaaperän kasvukunto vuonna 2025\, Jari Huikuri\, ProAgria \nTäydennyskylvö hanhituhojen jälkeen\, Tiina Polo\, ProAgria \nViljelijäpuheenvuoro: Rehuherneen hyödyt ja haitat\, Touko Laukkanen\, viljelijä \nKeskustelua virvokkeiden lomassa. HKFoodsin makkaratarjoilu. \nTilaisuuden päättäminen\, Oskari Lahtinen\, HKFoods \nIlmoittautuminen tarjoilun vuoksi 13.6. mennessä tästä linkistä: https://link.webropol.com/s/pellonpiennar-17062025 \n\nTämä tilaisuus on osa viiden koulutuksen koulutuskokonaisuutta ”Muuttuvan maatalouden tulevaisuus – kannattavuus\, haasteet ja ratkaisuja”. Koulutuskokonaisuus tarjoaa käytännönläheisiä koulutuksia eri puolilla Suomea – sekä paikan päällä että etänä. Osallistuminen antaa tilallisille ajantasaista tietoa maatalouden ajankohtaisista kysymyksistä. Koulutuksen (kolme-viisi koulutusta) suorittamisesta myönnetään osallistumistodistus. \nTule kuulemaan\, oppimaan ja keskustelemaan! \nKoulutuskokonaisuus järjestetään osana ”Ilmastokestävä ja vastuullinen lihantuotanto”-hanketta. Hankkeen päätoteuttaja on Pyhäjärvi-instituutti ja yhteistyötahona toimii HKFoods Finland Oy.
URL:https://pyhajarvi-instituutti.fi/tapahtuma/tayden-satopotentiaalin-saavuttaminen-pohjois-karjala/
LOCATION:Voudinsuo 5\, Liperi\, Voudinsuo 5\, Liperi\, 83400
ATTACH;FMTTYPE=image/png:https://pyhajarvi-instituutti.fi/wp-content/uploads/2025/05/Ilmastokestava-ja-vastuullinen-lihantuotanto-koulutuskokonaisuus_canvakuva_v3.png
END:VEVENT
BEGIN:VEVENT
DTSTART;TZID=Europe/Helsinki:20250619T140000
DTEND;TZID=Europe/Helsinki:20250619T160000
DTSTAMP:20260425T155914
CREATED:20250514T062251Z
LAST-MODIFIED:20250610T073649Z
UID:26034-1750341600-1750348800@pyhajarvi-instituutti.fi
SUMMARY:Täyden satopotentiaalin saavuttaminen\, Varsinais-Suomi
DESCRIPTION:Tervetuloa pellonpiennartapahtumaan hernepellon laidalle (Kytömaanhaara 354\, Loimaa) 19.6.2025 klo 14-16! Tapahtumassa kuulemme mm. maaperän kasvukunnosta ja lannoituksen optimoinnista ja kasvinsuojelusta. Lisäksi pääsemme kuulemaan kokemuksia rehuherneestä ja öljykasveista viljelykierrossa. \nOhjelma: \nTilaisuuden avaus\, Sanna Lipping\, Pyhäjärvi-instituutti \nLihamarkkinakatsaus\, Esa Heikkilä\, HKFoods \nMaaperän kasvukunto vuonna 2025\, Jarkko Storberg\, ProAgria \nLannoituksen ja kasvinsuojelun täyden potentiaalin saavuttaminen\, Mika Hyövelä\, Viljelijän Berner \nTuottajien kokemuksia rehuherneestä ja öljykasveista viljelykierrossa\, sikatuottajat Jarmo Onnela ja Marko Onnela \nKeskustelua virvokkeiden lomassa \nTilaisuuden päättäminen\, Oskari Lahtinen\, HKFoods \nIlmoittautuminen tarjoilun vuoksi 16.6. mennessä tästä linkistä: https://link.webropol.com/s/pellonpiennar-19062025 \n\nTämä tilaisuus on osa viiden koulutuksen koulutuskokonaisuutta ”Muuttuvan maatalouden tulevaisuus – kannattavuus\, haasteet ja ratkaisuja”. Koulutuskokonaisuus tarjoaa käytännönläheisiä koulutuksia eri puolilla Suomea – sekä paikan päällä että etänä. Osallistuminen antaa tilallisille ajantasaista tietoa maatalouden ajankohtaisista kysymyksistä. Koulutuksen (kolme-viisi koulutusta) suorittamisesta myönnetään osallistumistodistus. \nTule kuulemaan\, oppimaan ja keskustelemaan! \nKoulutuskokonaisuus järjestetään osana ”Ilmastokestävä ja vastuullinen lihantuotanto”-hanketta. Hankkeen päätoteuttaja on Pyhäjärvi-instituutti ja yhteistyötahona toimii HKFoods Finland Oy.
URL:https://pyhajarvi-instituutti.fi/tapahtuma/tayden-satopotentiaalin-saavuttaminen-varsinais-suomi/
LOCATION:Kytömaanhaara 354\, Loimaa\, Kytömaanhaara 354\, Niinijoki\, 32410
ATTACH;FMTTYPE=image/png:https://pyhajarvi-instituutti.fi/wp-content/uploads/2025/05/Ilmastokestava-ja-vastuullinen-lihantuotanto-koulutuskokonaisuus_canvakuva_v3.png
END:VEVENT
BEGIN:VEVENT
DTSTART;TZID=Europe/Helsinki:20250625T120000
DTEND;TZID=Europe/Helsinki:20250625T150000
DTSTAMP:20260425T155914
CREATED:20250613T074434Z
LAST-MODIFIED:20250624T060754Z
UID:26134-1750852800-1750863600@pyhajarvi-instituutti.fi
SUMMARY:Kevätöljykasveista parempaa satoa -pellonpiennartilaisuus
DESCRIPTION:Tervetuloa pellonpiennartilaisuuteen Lapualle ja Seinäjoelle! Tapahtumassa tutustutaan kevätöljykasvien lannoitus- ja lajikekokeisiin. \nLapualla nähtävänä on kaksi lannoituskoetta\, joista toinen on toisinto vuodelta 2024. Siinä tavoitteena on tarkentaa\, miten typpilannoituksen ajankohdalla ja -määrällä voidaan parantaa rypsin siemenen öljypitoisuutta. Toisessa kokeessa selvitetään orgaanisen lannoitteen käyttöä kevätrypsin ravinnehuollossa. \nSeinäjoella puolestaan on meneillään kevätrypsin ja -rapsin ruutumittakaavan lajikekokeet\, joissa on mukana paitsi tuttuja\, myös Suomessa tuntemattomampia lajikkeita. Kokeiden tavoitteena on lisätä lajikeominaisuuksien tuntemista Etelä-Pohjanmaan kasvuolosuhteissa. \nTilaisuus alkaa Lapualla (Härsiläntie 240)\, josta siirrytään omilla autoilla myöhemmin Seinäjoelle (Pajurannantie 5). \nOhjelma\n12.00   Tilaisuuden avaus\, Sauli Jaakkola/Johanna Pihala\, Pyhäjärvi-instituutti/RypsiRapsi-foorumi \n12.10  Kevätöljykasvien lannoitus\, Anna-Kaisa Salovaara\, Yara Suomi Oy \n12.25  Lannoituskokeiden esittely\, Kari Alasaari\, viljelijä/Marianne Nordman\, Pyhäjärvi-instituutti \n13.00  Katsaus kasvukauteen 2025\, Hanna Yli-Kuha\, Alavuden Öljynpuristamo \n13.15  Keskustelua lannoituskokeista ja kasvukaudesta \n13.30  Siirtyminen Seinäjoelle \n14.15   Lajikekokeiden esittely\, Janne Heikkinen\, Seinäjoen ammattikorkeakoulu \n14.30  Lajike-edustajien puheenvuorot ja keskustelua lajikkeista \n15.00  Tilaisuus päättyy \nIlmoittauduthan tapahtumaan 23.6. mennessä: https://link.webropol.com/ep/pellonpiennar-25062025 \nTilaisuuden järjestää VARPSI-hanke. Hankkeen hallinnoija ja päätoteuttaja on Pyhäjärvi-instituuttisäätiö. Osatoteuttajat ovat Nylands Svenska Lantbrukssällskap ja ProAgria Keskustenliitto. Hanketta rahoittaa Manner-Suomen maaseudun kehittämisohjelma Varsinais-Suomen\, Etelä-Pohjanmaa\, Uudenmaan\, Etelä-Savon ja Keski-Suomen Ely-keskusten kautta. Lisäksi hankkeen yksityisinä rahoittajina on elintarvike- ja maatalousalan yrityksiä: Apetit Kasviöljy Oy\, Berner Oy/Viljelijän Berner\, Bunge Finland Oy\, Corteva Agriscience Finland Oy\, Hankkija Oy\, Yara Suomi Oy
URL:https://pyhajarvi-instituutti.fi/tapahtuma/kevatoljykasveista-parempaa-satoa-pellonpiennartilaisuus/
ATTACH;FMTTYPE=image/jpeg:https://pyhajarvi-instituutti.fi/wp-content/uploads/2025/06/Kevatrypsi-Lapua-2024-c-PJI_-Nordman-3.jpg
END:VEVENT
BEGIN:VEVENT
DTSTART;TZID=Europe/Helsinki:20250626T140000
DTEND;TZID=Europe/Helsinki:20250626T160000
DTSTAMP:20260425T155914
CREATED:20250609T123313Z
LAST-MODIFIED:20250626T073713Z
UID:26055-1750946400-1750953600@pyhajarvi-instituutti.fi
SUMMARY:Täyden satopotentiaalin saavuttaminen\, Satakunta
DESCRIPTION:Tervetuloa pellonpiennartapahtumaan (Lavilan Rantatie 146\, Eurajoki) 26.6.2025 klo 14-16! Tapahtumassa kuulemme mm. maaperän kasvukunnosta ja lannoituksen optimoinnista ja kasvinsuojelusta. Lisäksi pääsemme kuulemaan kokemuksia rehuherneestä ja öljykasveista viljelykierrossa. \nOhjelma: \nTilaisuuden avaus\, Sanna Lipping\, Pyhäjärvi-instituutti \nLihamarkkinakatsaus\, Jarmo Seikola\, HKFoods \nMaaperän kasvukunto vuonna 2025\, Jarkko Storberg\, ProAgria \nLannoituksen ja kasvinsuojelun täyden potentiaalin saavuttaminen\, Mika Hyövelä\, Viljelijän Berner  \nTuottajien kokemuksia rehuherneestä ja öljykasveista viljelykierrossa\, broilerituottajat Ida Väkiparta ja Iiro Salonen \nKeskustelua virvokkeiden lomassa \nTilaisuuden päättäminen\, Oskari Lahtinen\, HKFoods \nIlmoittautuminen tarjoilun vuoksi 23.6. mennessä tästä linkistä: https://link.webropol.com/s/pellonpiennar-26062025 \n\nTämä tilaisuus on osa viiden koulutuksen koulutuskokonaisuutta ”Muuttuvan maatalouden tulevaisuus – kannattavuus\, haasteet ja ratkaisuja”. Koulutuskokonaisuus tarjoaa käytännönläheisiä koulutuksia eri puolilla Suomea – sekä paikan päällä että etänä. Osallistuminen antaa tilallisille ajantasaista tietoa maatalouden ajankohtaisista kysymyksistä. Koulutuksen (kolme-viisi koulutusta) suorittamisesta myönnetään osallistumistodistus. \nTule kuulemaan\, oppimaan ja keskustelemaan! \nKoulutuskokonaisuus järjestetään osana ”Ilmastokestävä ja vastuullinen lihantuotanto”-hanketta. Hankkeen päätoteuttaja on Pyhäjärvi-instituutti ja yhteistyötahona toimii HKFoods Finland Oy.
URL:https://pyhajarvi-instituutti.fi/tapahtuma/tayden-satopotentiaalin-saavuttaminen-satakunta/
LOCATION:Lavilan Rantatie 146\, Eurajoki\, Lavilan Rantatie 146\, Eurajoki\, 27100
ATTACH;FMTTYPE=image/png:https://pyhajarvi-instituutti.fi/wp-content/uploads/2025/05/Ilmastokestava-ja-vastuullinen-lihantuotanto-koulutuskokonaisuus_canvakuva_v3.png
END:VEVENT
END:VCALENDAR