BEGIN:VCALENDAR
VERSION:2.0
PRODID:-//Pyhäjärvi-instituutti - ECPv6.15.5//NONSGML v1.0//EN
CALSCALE:GREGORIAN
METHOD:PUBLISH
X-WR-CALNAME:Pyhäjärvi-instituutti
X-ORIGINAL-URL:https://pyhajarvi-instituutti.fi
X-WR-CALDESC:Tapahtumat Pyhäjärvi-instituutti
REFRESH-INTERVAL;VALUE=DURATION:PT1H
X-Robots-Tag:noindex
X-PUBLISHED-TTL:PT1H
BEGIN:VTIMEZONE
TZID:Europe/Helsinki
BEGIN:DAYLIGHT
TZOFFSETFROM:+0200
TZOFFSETTO:+0300
TZNAME:EEST
DTSTART:20190331T010000
END:DAYLIGHT
BEGIN:STANDARD
TZOFFSETFROM:+0300
TZOFFSETTO:+0200
TZNAME:EET
DTSTART:20191027T010000
END:STANDARD
END:VTIMEZONE
BEGIN:VEVENT
DTSTART;VALUE=DATE:20191121
DTEND;VALUE=DATE:20191122
DTSTAMP:20260421T092138
CREATED:20210125T122659Z
LAST-MODIFIED:20210426T104702Z
UID:17700-1574294400-1574380799@pyhajarvi-instituutti.fi
SUMMARY:LCA4Regions esittelytilaisuus
DESCRIPTION:LCA4Regions esittely (video 31 min) / Pekka Maijala\, Pyhäjärvi-instituutti\nEsitysmateriaali Pekka Mailjala (pdf) \nElinkaariarviointi päätöksenteon tukena (video 37 min) / Kirsi Usva\, Luonnonvarakeskus\nEsitysmateriaali Kirsi Usva (pdf) \nElinkaariarvioinnin huomiointi aluetason kiertotalouden suunnittelussa (video 32 min) / Aleksis Klap\, Varsinais-Suomen liitto\nEsitysmateriaali Aleksis Klap (pdf)
URL:https://pyhajarvi-instituutti.fi/tapahtuma/lca4regions-esittelytilaisuus/
LOCATION:Webinaari
CATEGORIES:Ajankohtaista
END:VEVENT
END:VCALENDAR